BEGIN:VCALENDAR
VERSION:2.0
PRODID:-//Deerfield Fly Shop - ECPv6.15.20//NONSGML v1.0//EN
CALSCALE:GREGORIAN
METHOD:PUBLISH
X-ORIGINAL-URL:https://deerfieldflyshop.com
X-WR-CALDESC:Events for Deerfield Fly Shop
REFRESH-INTERVAL;VALUE=DURATION:PT1H
X-Robots-Tag:noindex
X-PUBLISHED-TTL:PT1H
BEGIN:VTIMEZONE
TZID:America/New_York
BEGIN:DAYLIGHT
TZOFFSETFROM:-0500
TZOFFSETTO:-0400
TZNAME:EDT
DTSTART:20250309T070000
END:DAYLIGHT
BEGIN:STANDARD
TZOFFSETFROM:-0400
TZOFFSETTO:-0500
TZNAME:EST
DTSTART:20251102T060000
END:STANDARD
BEGIN:DAYLIGHT
TZOFFSETFROM:-0500
TZOFFSETTO:-0400
TZNAME:EDT
DTSTART:20260308T070000
END:DAYLIGHT
BEGIN:STANDARD
TZOFFSETFROM:-0400
TZOFFSETTO:-0500
TZNAME:EST
DTSTART:20261101T060000
END:STANDARD
BEGIN:DAYLIGHT
TZOFFSETFROM:-0500
TZOFFSETTO:-0400
TZNAME:EDT
DTSTART:20270314T070000
END:DAYLIGHT
BEGIN:STANDARD
TZOFFSETFROM:-0400
TZOFFSETTO:-0500
TZNAME:EST
DTSTART:20271107T060000
END:STANDARD
END:VTIMEZONE
BEGIN:VEVENT
DTSTART;TZID=America/New_York:20260301T100000
DTEND;TZID=America/New_York:20260301T150000
DTSTAMP:20260424T180056
CREATED:20240119T190339Z
LAST-MODIFIED:20260108T190150Z
UID:2099-1772359200-1772377200@deerfieldflyshop.com
SUMMARY:Deerfield River Flybox
DESCRIPTION:Get those fly boxes ready for prime bug season! \nThis class will explore the various insects that trout feed on in the Deerfield River and then instruct how to create the imitations of these bugs that should be in every Deerfield River angler’s fly box. \nWe will look at the life cycle of the most important mayfly species on the Deerfield. We will identify and discuss the different mayflies that hatch throughout the year and we will tie flies that represent each stage of the mayflies’ lives—from nymph to emerger to dun to spinner. Then we will delve into the life cycles of caddis and stoneflies\, midges\, terrestrials and general attractor patterns. \nThough geared toward the Deerfield River\, these flies will work for most other New England trout streams. \nThe goal of this class is to give students a grounding in the most important bugs to look for at different times of the year and then demonstrate a number of ways to tie the imitations of these bugs at their various life stages. \nCost is $50. Class limited to six; pre-registration is required. Some experience tying is necessary. Bring your own vise\, tools and thread. All other materials will be provided. Contact Brian at 413-397-3665 or brian@deerfieldflyshop.com with any questions or to register.
URL:https://deerfieldflyshop.com/event/deerfield-river-flybox/
LOCATION:Deerfield Fly Shop\, 8 Elm St.\, South Deerfield\, MA\, 01373\, United States
CATEGORIES:Tying
ATTACH;FMTTYPE=image/jpeg:https://deerfieldflyshop.com/wp-content/uploads/2024/01/IMG_2633photo-full-scaled.jpg
END:VEVENT
END:VCALENDAR